BEGIN:VCALENDAR
VERSION:2.0
PRODID:-//Winnie Nazarko - ECPv6.15.20//NONSGML v1.0//EN
CALSCALE:GREGORIAN
METHOD:PUBLISH
X-ORIGINAL-URL:https://satiassociates.org
X-WR-CALDESC:Events for Winnie Nazarko
REFRESH-INTERVAL;VALUE=DURATION:PT1H
X-Robots-Tag:noindex
X-PUBLISHED-TTL:PT1H
BEGIN:VTIMEZONE
TZID:America/New_York
BEGIN:DAYLIGHT
TZOFFSETFROM:-0500
TZOFFSETTO:-0400
TZNAME:EDT
DTSTART:20230312T070000
END:DAYLIGHT
BEGIN:STANDARD
TZOFFSETFROM:-0400
TZOFFSETTO:-0500
TZNAME:EST
DTSTART:20231105T060000
END:STANDARD
BEGIN:DAYLIGHT
TZOFFSETFROM:-0500
TZOFFSETTO:-0400
TZNAME:EDT
DTSTART:20240310T070000
END:DAYLIGHT
BEGIN:STANDARD
TZOFFSETFROM:-0400
TZOFFSETTO:-0500
TZNAME:EST
DTSTART:20241103T060000
END:STANDARD
BEGIN:DAYLIGHT
TZOFFSETFROM:-0500
TZOFFSETTO:-0400
TZNAME:EDT
DTSTART:20250309T070000
END:DAYLIGHT
BEGIN:STANDARD
TZOFFSETFROM:-0400
TZOFFSETTO:-0500
TZNAME:EST
DTSTART:20251102T060000
END:STANDARD
END:VTIMEZONE
BEGIN:VEVENT
DTSTART;VALUE=DATE:20240101
DTEND;VALUE=DATE:20240201
DTSTAMP:20260422T075946
CREATED:20220803T183144Z
LAST-MODIFIED:20230414T192839Z
UID:640-1704067200-1706745599@satiassociates.org
SUMMARY:One-Month Retreat at the Forest Refuge
DESCRIPTION:Tara Mulay and I will offer teachings and meditation guidance/ support at The Forest Refuge in Barre MA. There are experience and minimum stay requirements for folks wishing to come and practice Insight and Brahma Vihara meditation. \nApply at dharma.org when applications open.
URL:https://satiassociates.org/event/one-month-retreat-at-the-forest-refuge-2/
LOCATION:Forest Refuge\, 1230 Pleasant St\, Barre\, MA\, 01005\, United States
ORGANIZER;CN="Forest Refuge":MAILTO:fr@dharma.org
END:VEVENT
END:VCALENDAR