BEGIN:VCALENDAR
VERSION:2.0
PRODID:-//Winnie Nazarko - ECPv6.15.20//NONSGML v1.0//EN
CALSCALE:GREGORIAN
METHOD:PUBLISH
X-WR-CALNAME:Winnie Nazarko
X-ORIGINAL-URL:https://satiassociates.org
X-WR-CALDESC:Events for Winnie Nazarko
REFRESH-INTERVAL;VALUE=DURATION:PT1H
X-Robots-Tag:noindex
X-PUBLISHED-TTL:PT1H
BEGIN:VTIMEZONE
TZID:America/New_York
BEGIN:DAYLIGHT
TZOFFSETFROM:-0500
TZOFFSETTO:-0400
TZNAME:EDT
DTSTART:20240310T070000
END:DAYLIGHT
BEGIN:STANDARD
TZOFFSETFROM:-0400
TZOFFSETTO:-0500
TZNAME:EST
DTSTART:20241103T060000
END:STANDARD
BEGIN:DAYLIGHT
TZOFFSETFROM:-0500
TZOFFSETTO:-0400
TZNAME:EDT
DTSTART:20250309T070000
END:DAYLIGHT
BEGIN:STANDARD
TZOFFSETFROM:-0400
TZOFFSETTO:-0500
TZNAME:EST
DTSTART:20251102T060000
END:STANDARD
BEGIN:DAYLIGHT
TZOFFSETFROM:-0500
TZOFFSETTO:-0400
TZNAME:EDT
DTSTART:20260308T070000
END:DAYLIGHT
BEGIN:STANDARD
TZOFFSETFROM:-0400
TZOFFSETTO:-0500
TZNAME:EST
DTSTART:20261101T060000
END:STANDARD
END:VTIMEZONE
BEGIN:VEVENT
DTSTART;VALUE=DATE:20250421
DTEND;VALUE=DATE:20250501
DTSTAMP:20260422T054312
CREATED:20230414T193826Z
LAST-MODIFIED:20230414T193826Z
UID:670-1745193600-1746057599@satiassociates.org
SUMMARY:10-Day Retreat at Spirit Rock (tentative)
DESCRIPTION:I will join Joseph Goldstein\, Kamala and others in offering a vipassana and metta residential retreat at Spirit Rock in Woodacre CA. There will also be an option to take this retreat online. \nApply at spiritrock.org when applications open.
URL:https://satiassociates.org/event/10-day-retreat-at-spirit-rock-tentative/
LOCATION:Spirit Rock\, PO Box 169\, Woodacre\, CA\, 94973\, United States
ORGANIZER;CN="Spirit Rock":MAILTO:SMRC@spiritrock.org
END:VEVENT
END:VCALENDAR