BEGIN:VCALENDAR
VERSION:2.0
PRODID:-//Winnie Nazarko - ECPv6.15.20//NONSGML v1.0//EN
CALSCALE:GREGORIAN
METHOD:PUBLISH
X-WR-CALNAME:Winnie Nazarko
X-ORIGINAL-URL:https://satiassociates.org
X-WR-CALDESC:Events for Winnie Nazarko
REFRESH-INTERVAL;VALUE=DURATION:PT1H
X-Robots-Tag:noindex
X-PUBLISHED-TTL:PT1H
BEGIN:VTIMEZONE
TZID:America/New_York
BEGIN:DAYLIGHT
TZOFFSETFROM:-0500
TZOFFSETTO:-0400
TZNAME:EDT
DTSTART:20250309T070000
END:DAYLIGHT
BEGIN:STANDARD
TZOFFSETFROM:-0400
TZOFFSETTO:-0500
TZNAME:EST
DTSTART:20251102T060000
END:STANDARD
BEGIN:DAYLIGHT
TZOFFSETFROM:-0500
TZOFFSETTO:-0400
TZNAME:EDT
DTSTART:20260308T070000
END:DAYLIGHT
BEGIN:STANDARD
TZOFFSETFROM:-0400
TZOFFSETTO:-0500
TZNAME:EST
DTSTART:20261101T060000
END:STANDARD
BEGIN:DAYLIGHT
TZOFFSETFROM:-0500
TZOFFSETTO:-0400
TZNAME:EDT
DTSTART:20270314T070000
END:DAYLIGHT
BEGIN:STANDARD
TZOFFSETFROM:-0400
TZOFFSETTO:-0500
TZNAME:EST
DTSTART:20271107T060000
END:STANDARD
END:VTIMEZONE
BEGIN:VEVENT
DTSTART;VALUE=DATE:20260420
DTEND;VALUE=DATE:20260430
DTSTAMP:20260422T054421
CREATED:20250719T185230Z
LAST-MODIFIED:20250719T194811Z
UID:735-1776643200-1777507199@satiassociates.org
SUMMARY:10-day Vipassana & Metta Hybrid Retreat at Spirit Rock
DESCRIPTION:I will be teaching on-site with Kamala Masters and others while Joseph Goldstein headlines the retreat virtually. This is a hybrid on-site and on-line retreat held at Spirit Rock in Woodacre\, CA. \nApply at Spirit Rock when applications open.https://www.spiritrock.org/ \n 
URL:https://satiassociates.org/event/10-day-residential-retreat-at-spirit-rock/
LOCATION:Spirit Rock\, PO Box 169\, Woodacre\, CA\, 94973\, United States
ORGANIZER;CN="Spirit Rock":MAILTO:SMRC@spiritrock.org
END:VEVENT
END:VCALENDAR